BEGIN:VCALENDAR
VERSION:2.0
PRODID:-//Tukios.com/
BEGIN:VEVENT
UID:8bd35e7f-4bb8-47c9-8ba0-79552fc7796d@www.cremationmichigan.com
DTSTAMP:20260420T212733Z
DTSTART:20260502T140000Z
DTEND:20260502T150000Z
SUMMARY:Funeral Mass
DESCRIPTION:
URL:https://www.cremationmichigan.com/obituaries/donald-beebe
LOCATION:St. Margaret of Scotland 21201 E Thirteen Mile Rd  St Clair 
	Shores MI 48082
GEO:42.5260285;-82.9025669
END:VEVENT
END:VCALENDAR