BEGIN:VCALENDAR
VERSION:2.0
PRODID:-//Tukios.com/
BEGIN:VEVENT
UID:7f5ff83e-63fa-45fa-a98d-8b260fbb1fac@www.cremationmichigan.com
DTSTAMP:20260420T212354Z
DTSTART:20260502T133000Z
DTEND:20260502T140000Z
SUMMARY:Visitation
DESCRIPTION:
URL:https://www.cremationmichigan.com/obituaries/donald-beebe
LOCATION: 21201 E Thirteen Mile Rd  St Clair Shores MI 48082
GEO:42.5260285;-82.9025669
END:VEVENT
END:VCALENDAR