BEGIN:VCALENDAR
VERSION:2.0
PRODID:-//Tukios.com/
BEGIN:VEVENT
UID:18ceccc6-9924-4e9d-a96c-f48b7567e771@www.cremationmichigan.com
DTSTAMP:20260423T201011Z
DTSTART:20260530T150000Z
DTEND:20260530T160000Z
SUMMARY:Memorial Service & Inurnment
DESCRIPTION:
URL:https://www.cremationmichigan.com/obituaries/pauline-mcneill
LOCATION:Grosse Pointe Congregational Church - Garden Columbarium 211 
	Moross Road  Grosse Pointe Farms MI 48236
GEO:42.4101522;-82.8951449
END:VEVENT
END:VCALENDAR